BEGIN:VCALENDAR
VERSION:2.0
PRODID:-//TC Jewfolk - ECPv6.15.20//NONSGML v1.0//EN
CALSCALE:GREGORIAN
METHOD:PUBLISH
X-WR-CALNAME:TC Jewfolk
X-ORIGINAL-URL:https://tcjewfolk.com
X-WR-CALDESC:Events for TC Jewfolk
REFRESH-INTERVAL;VALUE=DURATION:PT1H
X-Robots-Tag:noindex
X-PUBLISHED-TTL:PT1H
BEGIN:VTIMEZONE
TZID:America/Chicago
BEGIN:DAYLIGHT
TZOFFSETFROM:-0600
TZOFFSETTO:-0500
TZNAME:CDT
DTSTART:20250309T080000
END:DAYLIGHT
BEGIN:STANDARD
TZOFFSETFROM:-0500
TZOFFSETTO:-0600
TZNAME:CST
DTSTART:20251102T070000
END:STANDARD
BEGIN:DAYLIGHT
TZOFFSETFROM:-0600
TZOFFSETTO:-0500
TZNAME:CDT
DTSTART:20260308T080000
END:DAYLIGHT
BEGIN:STANDARD
TZOFFSETFROM:-0500
TZOFFSETTO:-0600
TZNAME:CST
DTSTART:20261101T070000
END:STANDARD
BEGIN:DAYLIGHT
TZOFFSETFROM:-0600
TZOFFSETTO:-0500
TZNAME:CDT
DTSTART:20270314T080000
END:DAYLIGHT
BEGIN:STANDARD
TZOFFSETFROM:-0500
TZOFFSETTO:-0600
TZNAME:CST
DTSTART:20271107T070000
END:STANDARD
END:VTIMEZONE
BEGIN:VEVENT
DTSTART;TZID=America/Chicago:20260501T173000
DTEND;TZID=America/Chicago:20260501T210000
DTSTAMP:20260419T105019
CREATED:20260108T175826Z
LAST-MODIFIED:20260127T024403Z
UID:10006170-1777656600-1777669200@tcjewfolk.com
SUMMARY:Minnesota Hillel Maroon & Gold Shabbat
DESCRIPTION:Join us for Minnesota Hillel’s Maroon & Gold Shabbat 2026. More info coming soon
URL:https://tcjewfolk.com/event/minnesota-hillel-maroon-gold-shabbat/
CATEGORIES:Giving Back,Social
END:VEVENT
BEGIN:VEVENT
DTSTART;TZID=America/Chicago:20260503T150000
DTEND;TZID=America/Chicago:20260503T170000
DTSTAMP:20260419T105019
CREATED:20260113T163056Z
LAST-MODIFIED:20260310T203536Z
UID:10006181-1777820400-1777827600@tcjewfolk.com
SUMMARY:Community & Continuity: Voices of Hope in Dark Times
DESCRIPTION:The Minnesota JCC is honored to host the opening event of Violins of Hope – an internationally acclaimed exhibition that brings restored Holocaust-era instruments\, and the stories they carry\, to communities around the world. \nJoin us for an evening of music and spoken reflection exploring how communities endure\, fracture\, and rebuild. Featuring the Minnesota JCC Symphony Orchestra and prominent community voices\, the program moves from belonging to rupture and\, ultimately\, toward renewal—illuminating how music can preserve memory and deepen our sense of shared responsibility. Through orchestral works\, oral histories\, and readings\, this interdisciplinary event celebrates cultural connection and our shared humanity. Audiences are invited to reflect on the resilience of community in times of fear and uncertainty\, and to consider how continuity itself can become an act of hope and resistance. \nMinnesota JCC Symphony Orchestra Conductor: Dr. Mark Elliot Bergman \nSpecial Guests:\nAvshi Weinstein\, Co-Founder of Violins of Hope\nPastor Babette Chapman\, University Pastor\, Augsburg University\nNajeeba Syeed\, El-Hibri endowed chair and executive director of Interfaith Programs at Augsburg University \nCLICK HERE to reserve your spot! \nFollowed by an opening reception hosted by RBC Wealth Management. \nFor the safety and security of all JCC patrons – any non-member guest attending an event at one of our Minnesota JCC campuses will need to show a valid US ID (Drivers License or Passport) to access the facility. 
URL:https://tcjewfolk.com/event/minnesota-jcc-violins-of-hope-opening-night/
LOCATION:Minnesota JCC Sabes Center Minneapolis\, 4330 S. Cedar Lake Road\, St. Louis Park\, MN\, MN\, 55416\, United States
CATEGORIES:RSVP Needed,Social
ATTACH;FMTTYPE=image/jpeg:https://tcjewfolk.com/wp-content/uploads/2026/01/CC-Image-VOh.jpg
GEO:44.9653457;-93.333912
X-APPLE-STRUCTURED-LOCATION;VALUE=URI;X-ADDRESS=Minnesota JCC Sabes Center Minneapolis 4330 S. Cedar Lake Road St. Louis Park MN MN 55416 United States;X-APPLE-RADIUS=500;X-TITLE=4330 S. Cedar Lake Road\, St. Louis Park:geo:-93.333912,44.9653457
END:VEVENT
BEGIN:VEVENT
DTSTART;TZID=America/Chicago:20260503T150000
DTEND;TZID=America/Chicago:20260503T170000
DTSTAMP:20260419T105019
CREATED:20260205T023429Z
LAST-MODIFIED:20260406T185415Z
UID:10006220-1777820400-1777827600@tcjewfolk.com
SUMMARY:Bnai Emet Reunion and Beyond
DESCRIPTION:Bnai Emet holds a special place in the heart of all of its former members and made a profound impact on the Jewish community at large through the years. We are excited to share we are planning a Bnai Emet Reunion at Yeshiva of Minneapolis on Sunday\, May 3\, which will offer an opportunity for guided tours of the newly renovated building and a great chance to reconnect and schmooze with friends and also enjoy some infamous B’nai Emet delicacies.
URL:https://tcjewfolk.com/event/bnai-emet-reunion-and-beyond/
CATEGORIES:RSVP Needed,Social
ATTACH;FMTTYPE=image/jpeg:https://tcjewfolk.com/wp-content/uploads/2026/01/SaveDate-1.jpg
END:VEVENT
BEGIN:VEVENT
DTSTART;TZID=America/Chicago:20260503T170000
DTEND;TZID=America/Chicago:20260503T200000
DTSTAMP:20260419T105019
CREATED:20260225T170313Z
LAST-MODIFIED:20260225T170313Z
UID:10006389-1777827600-1777838400@tcjewfolk.com
SUMMARY:Spring Gala - Our Great Greek Get Together
DESCRIPTION:Beth Jacob’s Annual Spring Gala returns with live music from the Dirty Shorts Brass Band\, Greek Food on a Stick\, a fabulous live and silent auction\, and more! Register at Beth-Jacob.org/Gala
URL:https://tcjewfolk.com/event/spring-gala-our-great-greek-get-together/
CATEGORIES:RSVP Needed,Social
ATTACH;FMTTYPE=image/png:https://tcjewfolk.com/wp-content/uploads/2026/02/Screenshot-2026-02-24-at-7.29.51-PM.png
ORGANIZER;CN="Beth Jacob Congregation":MAILTO:info@beth-jacob.org
END:VEVENT
BEGIN:VEVENT
DTSTART;TZID=America/Chicago:20260504T173000
DTEND;TZID=America/Chicago:20260504T190000
DTSTAMP:20260419T105019
CREATED:20260407T191355Z
LAST-MODIFIED:20260407T191355Z
UID:10006468-1777915800-1777921200@tcjewfolk.com
SUMMARY:From “Not Yet” to “Maybe”: Real Talk About Assisted Living
DESCRIPTION:At some point\, “not yet” turns into “maybe.”This event is about that moment—and what comes next. \nJoin us at Roitenberg Family Assisted Living for a relaxed\, welcoming evening designed to help you explore assisted living in a comfortable\, no-pressure environment. Enjoy light bites while engaging in an honest\, informative conversation about what the transition to assisted living really looks like—for both older adults and their families. \nThis isn’t a sales presentation. It’s real talk\, real stories\, and real guidance. \nWhat You’ll Experience:\n\nHear firsthand from a current resident about what daily life is really like in assisted living\nGain perspective from a family member who recently navigated the transition\nLearn from an elder law attorney about legal considerations and planning ahead\nReceive emotional guidance and support from Kathy Cameron-Kuen of Litehouse Coaching\nExplore resources and financial insights with Laura Andrews\, Director of Social Services at Sholom\n\nBring your questions—honest\, unfiltered\, and real. You’ll leave with clarity\, confidence\, and a better understanding of your options. \nMonday\, May 4 | 5:30 p.m.Roitenberg Family Assisted Living3610 Phillips Parkway\, St. Louis Park\, MN \n📧 RSVP: acarlon@sholom.com📞 952.939.1554
URL:https://tcjewfolk.com/event/from-not-yet-to-maybe-real-talk-about-assisted-living/
LOCATION:Roitenberg Family Assisted Living\, 3610 Phillips Parkway\, St. Louis Park\, MN\, 55426\, United States
CATEGORIES:Learning,RSVP Needed,Social
ATTACH;FMTTYPE=image/png:https://tcjewfolk.com/wp-content/uploads/2026/04/Spring-RAL-Event-Graphic-1.png
END:VEVENT
BEGIN:VEVENT
DTSTART;TZID=America/Chicago:20260512T073000
DTEND;TZID=America/Chicago:20260512T093000
DTSTAMP:20260419T105019
CREATED:20260306T220339Z
LAST-MODIFIED:20260306T220339Z
UID:10006418-1778571000-1778578200@tcjewfolk.com
SUMMARY:Democracy is a Verb
DESCRIPTION:They say democracy is noun\, but at NCJW|MN we know it’s actually a verb. It’s something we do\, something we build\, and something we protect together. \nWe are thrilled to invite you to our upcoming Spring Breakfast Fundraiser: Democracy is a verb – when women lead\, communities thrive. \nWhen women lead\, the results aren’t just seen in the boardroom or ballot boxes\, they are felt in the well-being of our families\, the strength in our schools\, and the vibrancy of our neighborhoods. Come for breakfast\, be in community\, and discover how our collective action creates lasting change and helps our community reach its full potential. \nSave the date for a morning of purpose\, passion\, and great coffee. \nThursday May 12th\n8-9:30 a.m. – Doors open at 7:30 a.m.\nGlass House\, Minneapolis \nRegister at the link HERE
URL:https://tcjewfolk.com/event/democracy-is-a-verb/
LOCATION:Glass House\, 145 Holden St. N.\, Minneapolis\, MN\, 55405\, United States
CATEGORIES:RSVP Needed,Social
ATTACH;FMTTYPE=image/png:https://tcjewfolk.com/wp-content/uploads/2026/03/NCJWSPF1125-x-600-px-1.png
END:VEVENT
BEGIN:VEVENT
DTSTART;TZID=America/Chicago:20260515T110000
DTEND;TZID=America/Chicago:20260515T123000
DTSTAMP:20260419T105019
CREATED:20260116T143811Z
LAST-MODIFIED:20260304T180047Z
UID:10006186-1778842800-1778848200@tcjewfolk.com
SUMMARY:The Saint Paul Chamber Orchestra: Violins of Hope
DESCRIPTION:This powerful program features violins once played by Holocaust survivors\, each instrument carrying a story of resilience\, loss and hope. Through music inspired by Jewish traditions\, the concert honors memory while lifting the spirit. The program includes stirring string solos and a performance of Shostakovich’s Quartet\, featuring SPCO’s principal string players. It’s a deeply moving experience that brings together beauty\, reverence\, and the enduring fortitude of human expression — an unforgettable tribute to the past and a celebration of strength. The instruments of Violins of Hope will be on display for the program. \nApproximate length 1:20 \nPurchase Tickets Here.
URL:https://tcjewfolk.com/event/violins-of-hope-and-the-saint-paul-chamber-orchestra/2026-05-15/
LOCATION:Ordway Center For Performing Arts\, 345 Washington Street\, St. Paul\, MN\, 55102\, United States
CATEGORIES:RSVP Needed,Social
ATTACH;FMTTYPE=image/jpeg:https://tcjewfolk.com/wp-content/uploads/2026/01/CC-Image-VOh.jpg
GEO:44.944665;-93.098376
X-APPLE-STRUCTURED-LOCATION;VALUE=URI;X-ADDRESS=Ordway Center For Performing Arts 345 Washington Street St. Paul MN 55102 United States;X-APPLE-RADIUS=500;X-TITLE=345 Washington Street:geo:-93.098376,44.944665
END:VEVENT
BEGIN:VEVENT
DTSTART;TZID=America/Chicago:20260516T190000
DTEND;TZID=America/Chicago:20260516T203000
DTSTAMP:20260419T105019
CREATED:20260116T143811Z
LAST-MODIFIED:20260304T180047Z
UID:10006191-1778958000-1778963400@tcjewfolk.com
SUMMARY:The Saint Paul Chamber Orchestra: Violins of Hope
DESCRIPTION:This powerful program features violins once played by Holocaust survivors\, each instrument carrying a story of resilience\, loss and hope. Through music inspired by Jewish traditions\, the concert honors memory while lifting the spirit. The program includes stirring string solos and a performance of Shostakovich’s Quartet\, featuring SPCO’s principal string players. It’s a deeply moving experience that brings together beauty\, reverence\, and the enduring fortitude of human expression — an unforgettable tribute to the past and a celebration of strength. The instruments of Violins of Hope will be on display for the program. \nApproximate length 1:20 \nPurchase Tickets Here.
URL:https://tcjewfolk.com/event/violins-of-hope-and-the-saint-paul-chamber-orchestra/2026-05-16/
LOCATION:Ordway Center For Performing Arts\, 345 Washington Street\, St. Paul\, MN\, 55102\, United States
CATEGORIES:RSVP Needed,Social
ATTACH;FMTTYPE=image/jpeg:https://tcjewfolk.com/wp-content/uploads/2026/01/CC-Image-VOh.jpg
GEO:44.944665;-93.098376
X-APPLE-STRUCTURED-LOCATION;VALUE=URI;X-ADDRESS=Ordway Center For Performing Arts 345 Washington Street St. Paul MN 55102 United States;X-APPLE-RADIUS=500;X-TITLE=345 Washington Street:geo:-93.098376,44.944665
END:VEVENT
BEGIN:VEVENT
DTSTART;TZID=America/Chicago:20260517T130000
DTEND;TZID=America/Chicago:20260517T153000
DTSTAMP:20260419T105019
CREATED:20260120T000427Z
LAST-MODIFIED:20260318T202358Z
UID:10006207-1779022800-1779031800@tcjewfolk.com
SUMMARY:Hadassah Great Mahj Get-Together
DESCRIPTION:The Hadassah Minneapolis St. Paul Annual Great Mahj Get-Together is scheduled for Sunday\, May 17\, from 1-3:30 p.m. The location will be provided with your e-mail confirmation after you register. This is not a tournament but rather a simple gathering to play Mahj\, with door prizes and light refreshments. It also is a local fun(d)raiser to support Hadassah’s life-saving medical treatment and research in Israel. Each game will have a set time\, and then attendees will go to a different table\, thus mixing around and getting to know others. The games will use the 2026 Mah Jongg card. \nThe event fee is $36\, which includes one ticket for door prizes. Additional tickets will be available online and at the event – 1 for $5 or 3 for $10; you do not need to be present to win. We are grateful to Continental Diamond for their donation of a $250 gift certificate for our grand prize. To view the flyer\, click here. To register\, click here. The deadline to register is May 12\, and no walk-ins are allowed.
URL:https://tcjewfolk.com/event/hadassah-great-mahj-get-together/
CATEGORIES:RSVP Needed,Social
ATTACH;FMTTYPE=image/jpeg:https://tcjewfolk.com/wp-content/uploads/2026/01/MajTilesScattered2.jpg
END:VEVENT
BEGIN:VEVENT
DTSTART;TZID=America/Chicago:20260517T140000
DTEND;TZID=America/Chicago:20260517T153000
DTSTAMP:20260419T105019
CREATED:20260116T143811Z
LAST-MODIFIED:20260304T180047Z
UID:10006192-1779026400-1779031800@tcjewfolk.com
SUMMARY:The Saint Paul Chamber Orchestra: Violins of Hope
DESCRIPTION:This powerful program features violins once played by Holocaust survivors\, each instrument carrying a story of resilience\, loss and hope. Through music inspired by Jewish traditions\, the concert honors memory while lifting the spirit. The program includes stirring string solos and a performance of Shostakovich’s Quartet\, featuring SPCO’s principal string players. It’s a deeply moving experience that brings together beauty\, reverence\, and the enduring fortitude of human expression — an unforgettable tribute to the past and a celebration of strength. The instruments of Violins of Hope will be on display for the program. \nApproximate length 1:20 \nPurchase Tickets Here.
URL:https://tcjewfolk.com/event/violins-of-hope-and-the-saint-paul-chamber-orchestra/2026-05-17/
LOCATION:Ordway Center For Performing Arts\, 345 Washington Street\, St. Paul\, MN\, 55102\, United States
CATEGORIES:RSVP Needed,Social
ATTACH;FMTTYPE=image/jpeg:https://tcjewfolk.com/wp-content/uploads/2026/01/CC-Image-VOh.jpg
GEO:44.944665;-93.098376
X-APPLE-STRUCTURED-LOCATION;VALUE=URI;X-ADDRESS=Ordway Center For Performing Arts 345 Washington Street St. Paul MN 55102 United States;X-APPLE-RADIUS=500;X-TITLE=345 Washington Street:geo:-93.098376,44.944665
END:VEVENT
BEGIN:VEVENT
DTSTART;TZID=America/Chicago:20260517T150000
DTEND;TZID=America/Chicago:20260517T150000
DTSTAMP:20260419T105019
CREATED:20260205T023537Z
LAST-MODIFIED:20260310T204607Z
UID:10006228-1779030000-1779030000@tcjewfolk.com
SUMMARY:Music\, Memory\, and Resistance: A Book Talk with Dr. James A. Grymes
DESCRIPTION:Internationally renowned musicologist James A. Grymes discusses his National Jewish Book Award–winning book Violins of Hope\, a powerful account of violins played by Jewish musicians during the Holocaust. The book also tells the story of Israeli violinmakers Amnon and Avshalom Weinstein\, who restore these instruments and the histories they carry. Grymes explores how the violin served as a lifeline in ghettos and camps—preserving dignity\, sustaining resilience\, and\, in at least one case\, helping avenge murdered family members—revealing why\, wherever there were violins\, there was hope. Q&A follows\, with a reception and book signing to conclude. \nThis event is presented as part of the Minnesota JCC’s People of the Book series. \nCLICK HERE to reserve your spot \nFor the safety and security of all JCC patrons – any non-member guest attending an event at one of our Minnesota JCC campuses will need to show a valid US ID (Drivers License or Passport) to access the facility. 
URL:https://tcjewfolk.com/event/violins-of-hope-movement-memory-and-music/
LOCATION:Minnesota JCC Capp Center St. Paul\, 1375 ST. PAUL AVE\, St. Paul\, MN\, 55116\, United States
CATEGORIES:RSVP Needed,Social
ATTACH;FMTTYPE=image/jpeg:https://tcjewfolk.com/wp-content/uploads/2026/02/3.jpg
GEO:44.9037278;-93.1743916
X-APPLE-STRUCTURED-LOCATION;VALUE=URI;X-ADDRESS=Minnesota JCC Capp Center St. Paul 1375 ST. PAUL AVE St. Paul MN 55116 United States;X-APPLE-RADIUS=500;X-TITLE=1375 ST. PAUL AVE:geo:-93.1743916,44.9037278
END:VEVENT
BEGIN:VEVENT
DTSTART;TZID=America/Chicago:20260518T150000
DTEND;TZID=America/Chicago:20260518T210000
DTSTAMP:20260419T105019
CREATED:20251119T015400Z
LAST-MODIFIED:20251119T015414Z
UID:10006107-1779116400-1779138000@tcjewfolk.com
SUMMARY:Mount Sinai Community Foundation Annual Grantmaking Meeting
DESCRIPTION:Giving circle members come together to vote on health\, wellness\, and wellbeing grant requests.
URL:https://tcjewfolk.com/event/mount-sinai-community-foundation-annual-grantmaking-meeting/
CATEGORIES:Social
ATTACH;FMTTYPE=image/png:https://tcjewfolk.com/wp-content/uploads/2025/11/JCF-Logo.png
END:VEVENT
BEGIN:VEVENT
DTSTART;TZID=America/Chicago:20260520T190000
DTEND;TZID=America/Chicago:20260520T210000
DTSTAMP:20260419T105019
CREATED:20260116T144510Z
LAST-MODIFIED:20260310T205250Z
UID:10006184-1779303600-1779310800@tcjewfolk.com
SUMMARY:Symphony Orchestra Concert with Violins of Hope
DESCRIPTION:This moving performance brings together beautiful orchestral music and historic instruments that once belonged to Jewish musicians before and during the Holocaust. Restored and preserved\, the Violins of Hope serve as living symbols of resilience\, remembrance\, and the enduring power of the human spirit. \nFeaturing soloist Marc Levine and the Baal Shem Suite by Ernest Bloch. \nCLICK HERE to reserve your spot. \nFor the safety and security of all JCC patrons – any non-member guest attending an event at one of our Minnesota JCC campuses will need to show a valid US ID (Drivers License or Passport) to access the facility.  \n  \n  \n 
URL:https://tcjewfolk.com/event/minnesota-jcc-symphony-orchestra-concert-with-marc-levine-soloist/
LOCATION:Minnesota JCC Capp Center St. Paul\, 1375 ST. PAUL AVE\, St. Paul\, MN\, 55116\, United States
CATEGORIES:RSVP Needed,Social
ATTACH;FMTTYPE=image/jpeg:https://tcjewfolk.com/wp-content/uploads/2024/09/Orchestra-Concert-LIFE@THEJ-e1773175958242.jpg
GEO:44.9037278;-93.1743916
X-APPLE-STRUCTURED-LOCATION;VALUE=URI;X-ADDRESS=Minnesota JCC Capp Center St. Paul 1375 ST. PAUL AVE St. Paul MN 55116 United States;X-APPLE-RADIUS=500;X-TITLE=1375 ST. PAUL AVE:geo:-93.1743916,44.9037278
END:VEVENT
BEGIN:VEVENT
DTSTART;TZID=America/Chicago:20260521T130000
DTEND;TZID=America/Chicago:20260521T130000
DTSTAMP:20260419T105019
CREATED:20260120T000212Z
LAST-MODIFIED:20260304T173919Z
UID:10006194-1779368400-1779368400@tcjewfolk.com
SUMMARY:Violins of Hope - Through the Lens of Hope: An Artist Talk with Daniel Levin
DESCRIPTION:Join us for an afternoon of photography and memory with photographer Daniel Levin\, featuring an exhibit reception\, artist talk\, and book signing for Violins and Hope: From the Holocaust to Symphony Hall—winner of the 2022 Independent Publisher National Book of the Year. Levin is the first photographer to document\, in extraordinary depth\, the Tel Aviv workshop of Amnon Weinstein and the hauntingly intimate process behind the Violins of Hope—a mission to restore instruments that survived ghettos and camps even when their owners often did not. Through luminous photographs and compelling stories\, Levin invites us into a world of craft and devotion\, tracing how these violins were brought back to life and carried onto stages around the globe. Today\, the work continues through Amnon’s son\, Avshalom Weinstein\, ensuring these instruments remain living witnesses—sounding with resilience\, remembrance\, and human dignity. \nReception and book-signing with Daniel to follow in the Tychman Shapiro Gallery. \n \nFor the safety and security of all JCC patrons – any non-member guest attending an event at one of our Minnesota JCC campuses will need to show a valid US ID (Drivers License or Passport) to access the facility.  \n  \n 
URL:https://tcjewfolk.com/event/violins-of-hope-film-screening-reception-artist-talk-book-signing-with-daniel-levin/
LOCATION:Minnesota JCC Sabes Center Minneapolis\, 4330 S. Cedar Lake Road\, St. Louis Park\, MN\, MN\, 55416\, United States
CATEGORIES:RSVP Needed,Social
ATTACH;FMTTYPE=image/jpeg:https://tcjewfolk.com/wp-content/uploads/2026/01/Picture1.jpg
GEO:44.9653457;-93.333912
X-APPLE-STRUCTURED-LOCATION;VALUE=URI;X-ADDRESS=Minnesota JCC Sabes Center Minneapolis 4330 S. Cedar Lake Road St. Louis Park MN MN 55416 United States;X-APPLE-RADIUS=500;X-TITLE=4330 S. Cedar Lake Road\, St. Louis Park:geo:-93.333912,44.9653457
END:VEVENT
BEGIN:VEVENT
DTSTART;TZID=America/Chicago:20260528T100000
DTEND;TZID=America/Chicago:20260528T150000
DTSTAMP:20260419T105019
CREATED:20260120T000412Z
LAST-MODIFIED:20260121T175649Z
UID:10006205-1779962400-1779980400@tcjewfolk.com
SUMMARY:Play for the J Cards Event
DESCRIPTION:Mark your calendar — we’ll be sharing more soon.
URL:https://tcjewfolk.com/event/minnesota-jccs-play-for-the-j-cards-event/
LOCATION:Mendakota Country Club\, 2075 Mendakota Drive\, Mendota Heights\, Mendota Heights\, MN\, 55120\, United States
CATEGORIES:Giving Back,RSVP Needed,Social
ATTACH;FMTTYPE=image/jpeg:https://tcjewfolk.com/wp-content/uploads/2022/11/Play-for-the-J_FB-LIFE@THEJ.jpg
GEO:44.8799192;-93.1349708
X-APPLE-STRUCTURED-LOCATION;VALUE=URI;X-ADDRESS=Mendakota Country Club 2075 Mendakota Drive Mendota Heights Mendota Heights MN 55120 United States;X-APPLE-RADIUS=500;X-TITLE=2075 Mendakota Drive\, Mendota Heights:geo:-93.1349708,44.8799192
END:VEVENT
BEGIN:VEVENT
DTSTART;TZID=America/Chicago:20260531T000000
DTEND;TZID=America/Chicago:20260531T235959
DTSTAMP:20260419T105019
CREATED:20260120T000316Z
LAST-MODIFIED:20260304T193539Z
UID:10006199-1780185600-1780271999@tcjewfolk.com
SUMMARY:Violins of Hope Centerpiece Concert
DESCRIPTION:Please reserve this date. Additional event details will be shared soon.
URL:https://tcjewfolk.com/event/violins-of-hope-concert/
LOCATION:Hamline University – Sundin Hall\, 1531 Hewitt Ave.\, St. Paul\, MN\, 55104\, United States
CATEGORIES:RSVP Needed,Social
ATTACH;FMTTYPE=image/jpeg:https://tcjewfolk.com/wp-content/uploads/2026/01/CC-Image-VOh.jpg
END:VEVENT
BEGIN:VEVENT
DTSTART;TZID=America/Chicago:20260531T150000
DTEND;TZID=America/Chicago:20260531T170000
DTSTAMP:20260419T105019
CREATED:20260416T223323Z
LAST-MODIFIED:20260416T223323Z
UID:10006483-1780239600-1780246800@tcjewfolk.com
SUMMARY:From Synagogue to Church: A Shared North Side Story
DESCRIPTION:What: From Synagogue to Church: A Shared North Side Story \nWhen: Sunday\, May 31st | 3-5 p.m. \nWhere: First Church of God in Christ – Graham Temple | 810 Elwood Ave N\, Minneapolis \nThis year marks the one hundredth anniversary of a storied North Minneapolis building with a unique and intersecting history: now the religious home of First Church of God in Christ\, the building was first built as a synagogue for an Orthodox Jewish congregation who named it Tifereth B’nai Jacob\, “Splendors of the Sons of Jacob.” The transition from shul to church reflects the shared history of the near Northside as a place where Jewish and Black families lived side by side since the early twentieth century. \nRecently\, the building was placed on the National Register of Historic Places\, the second synagogue and only the third African American church in the state of Minnesota to hold such an honor. \nCome learn more about this sacred ground and  its shared stories while also exploring the beauty of this historic building and learning why it was selected to be on the National Register. There will be programming to celebrate these interwoven experiences as well as an opportunity to make connections and conversation with others. \nEvent program\n\n3:00 – 4:00 p.m.: Presentations and speakers in the sanctuary\n4:00 – 4:30 p.m.: View exhibits and explore the history of the building\, socialize with light food and refreshments\n4:30 – 4:50 p.m.: Shared conversations in the fellowship hall with welcome from Robin Doroshow\, Executive Director of the Jewish Historical Society of the Upper Midwest\n4:50 – 5:00 p.m.: Wrap up and thank yous led by Kate Dietrick\, Archivist for the Upper Midwest Jewish Archives\n\nSpeakers\nSpeakers will include: Tierre Webster\, Pastor of the First Church of God in Christ/Graham Temple; Rabbi Alexander Davis\, Senior Rabbi at Beth El Synagogue; Dr. Marilyn Chiat\, co-author of the National Register of Historic Places nomination. \nPerformances by the choirs of both First Church of God in Christ and Beth El Synagogue \nThank you to our co-sponsors\nThis event is brought to you by the First Church of God in Christ\, Beth El Synagogue\, Jewish Historical Society of the Upper Midwest\, Adath Jeshurun Congregation\, and Upper Midwest Jewish Archives University of Minnesota Libraries.
URL:https://tcjewfolk.com/event/from-synagogue-to-church-a-shared-north-side-story/
CATEGORIES:Learning,Social
ATTACH;FMTTYPE=image/jpeg:https://tcjewfolk.com/wp-content/uploads/2026/04/DSC_0595-scaled.jpg
END:VEVENT
END:VCALENDAR