BEGIN:VCALENDAR
VERSION:2.0
PRODID:-//TC Jewfolk - ECPv6.15.20//NONSGML v1.0//EN
CALSCALE:GREGORIAN
METHOD:PUBLISH
X-ORIGINAL-URL:https://tcjewfolk.com
X-WR-CALDESC:Events for TC Jewfolk
REFRESH-INTERVAL;VALUE=DURATION:PT1H
X-Robots-Tag:noindex
X-PUBLISHED-TTL:PT1H
BEGIN:VTIMEZONE
TZID:America/Chicago
BEGIN:DAYLIGHT
TZOFFSETFROM:-0600
TZOFFSETTO:-0500
TZNAME:CDT
DTSTART:20250309T080000
END:DAYLIGHT
BEGIN:STANDARD
TZOFFSETFROM:-0500
TZOFFSETTO:-0600
TZNAME:CST
DTSTART:20251102T070000
END:STANDARD
BEGIN:DAYLIGHT
TZOFFSETFROM:-0600
TZOFFSETTO:-0500
TZNAME:CDT
DTSTART:20260308T080000
END:DAYLIGHT
BEGIN:STANDARD
TZOFFSETFROM:-0500
TZOFFSETTO:-0600
TZNAME:CST
DTSTART:20261101T070000
END:STANDARD
BEGIN:DAYLIGHT
TZOFFSETFROM:-0600
TZOFFSETTO:-0500
TZNAME:CDT
DTSTART:20270314T080000
END:DAYLIGHT
BEGIN:STANDARD
TZOFFSETFROM:-0500
TZOFFSETTO:-0600
TZNAME:CST
DTSTART:20271107T070000
END:STANDARD
END:VTIMEZONE
BEGIN:VEVENT
DTSTART;VALUE=DATE:20260607
DTEND;VALUE=DATE:20260608
DTSTAMP:20260419T120716
CREATED:20260124T020131Z
LAST-MODIFIED:20260124T020131Z
UID:10006215-1780790400-1780876799@tcjewfolk.com
SUMMARY:Violins of Hope Performance
DESCRIPTION:Please reserve this date. Additional event details will be shared soon.
URL:https://tcjewfolk.com/event/violins-of-hope-performance-4/
LOCATION:Museum of Russian Art\, 5500 Stevens Ave\, Minneapolis\, MN\, 55419\, United States
CATEGORIES:RSVP Needed,Social
ATTACH;FMTTYPE=image/jpeg:https://tcjewfolk.com/wp-content/uploads/2026/01/CC-Image-VOh.jpg
GEO:44.903428;-93.2759442
X-APPLE-STRUCTURED-LOCATION;VALUE=URI;X-ADDRESS=Museum of Russian Art 5500 Stevens Ave Minneapolis MN 55419 United States;X-APPLE-RADIUS=500;X-TITLE=5500 Stevens Ave:geo:-93.2759442,44.903428
END:VEVENT
BEGIN:VEVENT
DTSTART;TZID=America/Chicago:20260607T173000
DTEND;TZID=America/Chicago:20260607T210000
DTSTAMP:20260419T120716
CREATED:20251013T181903Z
LAST-MODIFIED:20260316T174955Z
UID:10005958-1780853400-1780866000@tcjewfolk.com
SUMMARY:JCRC Annual Event: Reclaiming Our Story
DESCRIPTION:Sunday\, June 7\, 5:30-9:00 PM | Downtown Minneapolis \nFeaturing Sarah Hurwitz\, author of\, As A Jew: Reclaiming Our Story From Those Who Shame\, Blame\, and Try To Erase Us\, is an urgent exploration of how antisemitism has shaped Jewish identity and how Jews can reclaim their tradition\, by the celebrated White House speechwriter and author of the widely acclaimed Here All Along. \n“Beautifully written and brilliantly argued\, As a Jew is that rare book that defines an historical moment. The American Jewish awakening is upon us\, and Sarah Hurwitz is its prophet.” – Yossi Klein Halevi\, senior fellow\, Shalom Hartman Institute\, author of New York Times bestseller Letters to My Palestinian Neighbor\, and 2018 JCRC Annual Event keynote speaker \nPURCHASE TICKETS
URL:https://tcjewfolk.com/event/jrcr-annual-event/
CATEGORIES:Giving Back,RSVP Needed,Social
ATTACH;FMTTYPE=image/png:https://tcjewfolk.com/wp-content/uploads/2025/10/unnamed-1-1.png
END:VEVENT
BEGIN:VEVENT
DTSTART;TZID=America/Chicago:20260611T070000
DTEND;TZID=America/Chicago:20260611T070000
DTSTAMP:20260419T120716
CREATED:20260116T143857Z
LAST-MODIFIED:20260121T181820Z
UID:10006190-1781161200-1781161200@tcjewfolk.com
SUMMARY:Violins of Hope Performance
DESCRIPTION:Please reserve this date. Additional event details will be shared soon.
URL:https://tcjewfolk.com/event/violins-of-hope-at-mount-zion/
LOCATION:Mount Zion Temple\, 1300 Summit Ave\, St.Paul\, MN\, 55105\, United States
CATEGORIES:RSVP Needed,Social
ATTACH;FMTTYPE=image/jpeg:https://tcjewfolk.com/wp-content/uploads/2026/01/CC-Image-VOh.jpg
GEO:44.940883;-93.155547
X-APPLE-STRUCTURED-LOCATION;VALUE=URI;X-ADDRESS=Mount Zion Temple 1300 Summit Ave St.Paul MN 55105 United States;X-APPLE-RADIUS=500;X-TITLE=1300 Summit Ave:geo:-93.155547,44.940883
END:VEVENT
BEGIN:VEVENT
DTSTART;TZID=America/Chicago:20260611T090000
DTEND;TZID=America/Chicago:20260611T100000
DTSTAMP:20260419T120716
CREATED:20260216T235921Z
LAST-MODIFIED:20260217T195057Z
UID:10006246-1781168400-1781172000@tcjewfolk.com
SUMMARY:June Coffee + Career Connections for Jewish Professionals
DESCRIPTION:JLink Coffee Talk: Careers & Connections\nJoin TC Jewfolk and JFCS of MN Career Services for a relaxed morning meetup designed for Jewish professionals at any stage — early career\, mid-career\, in transition\, or simply exploring what’s next. \nJLink is an open\, participant-driven conversation space where you can ask questions about job searching\, career pivots\, networking\, resumes\, LinkedIn\, or anything in between — or just come to listen and connect. This is a low-pressure\, welcoming environment to schmooze\, share real-life experiences\, and tap into Jewish communal resources that already exist to support you. \nDrop in\, grab coffee\, and leave with new ideas\, meaningful connections\, and greater clarity about your next step. \n2026 Dates (All Thursdays):\nMarch 12June 11September 10December 10 \nDetails:📍 SK Coffee\, St. Paul🕘 9:00–10:00 AM☕ Free to attend \nYou don’t need to have it all figured out — this is a place to start. \nPlease email Anna Ferdelman annaf@jfcsmn.org to RSVP. \nClick here to learn more about our meetups.\n 
URL:https://tcjewfolk.com/event/june-coffee-career-connections-for-jewish-professionals/
LOCATION:SK Coffee\, 550 Vandalia St.\, St. Paul\, MN\, 55114\, United States
CATEGORIES:Drop-In OK,Learning,Social
ATTACH;FMTTYPE=image/jpeg:https://tcjewfolk.com/wp-content/uploads/2026/02/2026-JLink-coffees-Featured-Events.jpg
ORGANIZER;CN="TC Jewfolk":MAILTO:events@jewfolk.com
END:VEVENT
BEGIN:VEVENT
DTSTART;VALUE=DATE:20260614
DTEND;VALUE=DATE:20260615
DTSTAMP:20260419T120716
CREATED:20260112T220959Z
LAST-MODIFIED:20260304T201329Z
UID:10006180-1781395200-1781481599@tcjewfolk.com
SUMMARY:Violins of Hope: Strings of the Holocaust Film Screening
DESCRIPTION:Narrated by Academy Award-winning actor Adrien Brody\, Violins of Hope – Strings of the Holocaust follows Israeli master violinmaker Amnon Weinstein as he restores violins carried by starving Jewish refugees on death marches\, played under coercion in concentration camps\, and held close in ghettos and work camps—each instrument bearing witness to suffering\, courage\, and resilience. The film interweaves these histories with Weinstein’s mission to collect\, repair\, and return the violins to the world’s stages through performances by renowned musicians and orchestras\, an act of love and defiance against those who tried to silence both the music and a people. \nPost-film conversation featuring Janet Horvath. Ms. Horvath was the associate principal cello of the Minnesota Orchestra from 1980-2012. Her new book\, The Cello Still Sings – A Generational Story of the Holocaust and of the Transformative Power of Music\, will be available for purchase and signing. \nView Trailer Here
URL:https://tcjewfolk.com/event/minnesota-jcc-foundation-legacy-society-event/
LOCATION:Minnesota JCC Capp Center St. Paul\, 1375 ST. PAUL AVE\, St. Paul\, MN\, 55116\, United States
CATEGORIES:RSVP Needed,Social
ATTACH;FMTTYPE=image/jpeg:https://tcjewfolk.com/wp-content/uploads/2026/01/amnon-weinstein-crop-2-600x450-1.jpg
GEO:44.9037278;-93.1743916
X-APPLE-STRUCTURED-LOCATION;VALUE=URI;X-ADDRESS=Minnesota JCC Capp Center St. Paul 1375 ST. PAUL AVE St. Paul MN 55116 United States;X-APPLE-RADIUS=500;X-TITLE=1375 ST. PAUL AVE:geo:-93.1743916,44.9037278
END:VEVENT
BEGIN:VEVENT
DTSTART;TZID=America/Chicago:20260614T143000
DTEND;TZID=America/Chicago:20260614T163000
DTSTAMP:20260419T120716
CREATED:20260120T000335Z
LAST-MODIFIED:20260304T195002Z
UID:10006201-1781447400-1781454600@tcjewfolk.com
SUMMARY:The Loring String Quartet + Exhibition
DESCRIPTION:The Loring String Quartet brings the Violins of Hope to life in an intimate afternoon concert at Saint Mark’s Episcopal Cathedral\, performing on four instruments from the collection — two violins\, a viola\, and a cello — each one a Holocaust-era instrument restored to sing again. Following the performance\, the violins remain on display alongside the deeply human stories they carry\, inviting guests to linger\, listen\, and reflect.
URL:https://tcjewfolk.com/event/violins-of-hope-concert-2/
LOCATION:St. Mark’s Episcopal Church\, 519 Oak Grove Street\, Minneapolis\, MN\, 55403\, United States
CATEGORIES:Drop-In OK,Social
ATTACH;FMTTYPE=image/png:https://tcjewfolk.com/wp-content/uploads/2026/01/t.png
END:VEVENT
BEGIN:VEVENT
DTSTART;VALUE=DATE:20260621
DTEND;VALUE=DATE:20260622
DTSTAMP:20260419T120716
CREATED:20260120T000349Z
LAST-MODIFIED:20260120T000349Z
UID:10006202-1782000000-1782086399@tcjewfolk.com
SUMMARY:Violins of Hope Performance
DESCRIPTION:Please reserve this date. Additional event details will be shared soon.
URL:https://tcjewfolk.com/event/violins-of-hope-performance-2/
LOCATION:Plymouth Congregational Church\, 1919 LaSalle Ave.\, Minneapolis\, MN\, 55403\, United States
CATEGORIES:RSVP Needed,Social
ATTACH;FMTTYPE=image/jpeg:https://tcjewfolk.com/wp-content/uploads/2026/01/CC-Image-VOh.jpg
END:VEVENT
BEGIN:VEVENT
DTSTART;VALUE=DATE:20260622
DTEND;VALUE=DATE:20260623
DTSTAMP:20260419T120716
CREATED:20260120T000255Z
LAST-MODIFIED:20260210T164931Z
UID:10006197-1782086400-1782172799@tcjewfolk.com
SUMMARY:Violins of Hope Performance with MN Sinfonia Professional Chamber Orchestra
DESCRIPTION:Please reserve this date. Additional event details will be shared soon. \n*Limited Capacity
URL:https://tcjewfolk.com/event/violins-of-hope-performance-with-mn-sinfonia-professional-chamber-orchestra/
CATEGORIES:RSVP Needed,Social
ATTACH;FMTTYPE=image/jpeg:https://tcjewfolk.com/wp-content/uploads/2026/01/CC-Image-VOh.jpg
END:VEVENT
BEGIN:VEVENT
DTSTART;TZID=America/Chicago:20260623T193000
DTEND;TZID=America/Chicago:20260623T193000
DTSTAMP:20260419T120716
CREATED:20260116T144318Z
LAST-MODIFIED:20260304T195141Z
UID:10006193-1782243000-1782243000@tcjewfolk.com
SUMMARY:Violins of Hope Choral Performance
DESCRIPTION:Please reserve this date. Additional event details will be shared soon.
URL:https://tcjewfolk.com/event/violins-of-hope-and-the-wayzata-community-church-chamber-choir/
LOCATION:Wayzata Community Church\, 125 Wayzata Blvd.\, Wayzata\, MN\, 55391\, United States
CATEGORIES:RSVP Needed,Social
ATTACH;FMTTYPE=image/jpeg:https://tcjewfolk.com/wp-content/uploads/2026/01/CC-Image-VOh.jpg
END:VEVENT
BEGIN:VEVENT
DTSTART;TZID=America/Chicago:20260623T193000
DTEND;TZID=America/Chicago:20260623T193000
DTSTAMP:20260419T120716
CREATED:20260120T000322Z
LAST-MODIFIED:20260120T000322Z
UID:10006200-1782243000-1782243000@tcjewfolk.com
SUMMARY:Violins of Hope Performance
DESCRIPTION:Please reserve this date. Additional event details will be shared soon.
URL:https://tcjewfolk.com/event/violins-of-hope-performance/
LOCATION:Augsburg University\, 2211 Riverside Avenue\, Minneapolis\, MN\, 55454\, United States
CATEGORIES:RSVP Needed,Social
ATTACH;FMTTYPE=image/jpeg:https://tcjewfolk.com/wp-content/uploads/2026/01/CC-Image-VOh.jpg
END:VEVENT
BEGIN:VEVENT
DTSTART;TZID=America/Chicago:20260624T130000
DTEND;TZID=America/Chicago:20260624T130000
DTSTAMP:20260419T120716
CREATED:20260120T000354Z
LAST-MODIFIED:20260304T201358Z
UID:10006203-1782306000-1782306000@tcjewfolk.com
SUMMARY:Violins of Hope: Strings of the Holocaust Film Screening
DESCRIPTION:Narrated by Academy Award-winning actor Adrien Brody\, Violins of Hope: Strings of the Holocaust follows Israeli master violinmaker Amnon Weinstein as he restores violins carried by starving Jewish refugees on death marches\, played under coercion in concentration camps\, and held close in ghettos and work camps—each instrument bearing witness to suffering\, courage\, and resilience. The film interweaves these histories with Weinstein’s mission to collect\, repair\, and return the violins to the world’s stages through performances by renowned musicians and orchestras\, an act of love and defiance against those who tried to silence both the music and a people. \nPost-film conversation featuring Violins of Hope Co-Founder Avshi Weinstein. \nView Trailer Here
URL:https://tcjewfolk.com/event/violins-of-hope-performance-3/
LOCATION:Minnesota JCC Sabes Center Minneapolis\, 4330 S. Cedar Lake Road\, St. Louis Park\, MN\, MN\, 55416\, United States
CATEGORIES:RSVP Needed,Social
ATTACH;FMTTYPE=image/jpeg:https://tcjewfolk.com/wp-content/uploads/2026/01/amnon-weinstein-crop-2-600x450-1.jpg
GEO:44.9653457;-93.333912
X-APPLE-STRUCTURED-LOCATION;VALUE=URI;X-ADDRESS=Minnesota JCC Sabes Center Minneapolis 4330 S. Cedar Lake Road St. Louis Park MN MN 55416 United States;X-APPLE-RADIUS=500;X-TITLE=4330 S. Cedar Lake Road\, St. Louis Park:geo:-93.333912,44.9653457
END:VEVENT
BEGIN:VEVENT
DTSTART;TZID=America/Chicago:20260625T080000
DTEND;TZID=America/Chicago:20260625T170000
DTSTAMP:20260419T120716
CREATED:20260120T000310Z
LAST-MODIFIED:20260121T181116Z
UID:10006198-1782374400-1782406800@tcjewfolk.com
SUMMARY:Violins of Hope Performance with MN Sinfonia Professional Chamber Orchestra
DESCRIPTION:Please reserve this date. Additional event details will be shared soon.
URL:https://tcjewfolk.com/event/violins-of-hope-performance-with-mn-sinfonia-professional-chamber-orchestra-2/
LOCATION:Wayzata Community Church\, 125 Wayzata Blvd.\, Wayzata\, MN\, 55391\, United States
CATEGORIES:RSVP Needed,Social
ATTACH;FMTTYPE=image/jpeg:https://tcjewfolk.com/wp-content/uploads/2026/01/CC-Image-VOh.jpg
END:VEVENT
BEGIN:VEVENT
DTSTART;TZID=America/Chicago:20260626T113000
DTEND;TZID=America/Chicago:20260626T130000
DTSTAMP:20260419T120716
CREATED:20260116T143749Z
LAST-MODIFIED:20260304T175230Z
UID:10006185-1782473400-1782478800@tcjewfolk.com
SUMMARY:Shabbat Lunch Featuring Violins of Hope
DESCRIPTION:Join us for a delicious and meaningful Eastern European-themed Shabbat Lunch accompanied by a musical performance featuring instruments from the Violins of Hope collection and a conversation with Violins of Hope Co-Founder Avshi Weinstein.
URL:https://tcjewfolk.com/event/shabbat-lunch-featuring-violins-of-hope/
LOCATION:Minnesota JCC Capp Center St. Paul\, 1375 ST. PAUL AVE\, St. Paul\, MN\, 55116\, United States
CATEGORIES:RSVP Needed,Social
ATTACH;FMTTYPE=image/jpeg:https://tcjewfolk.com/wp-content/uploads/2026/01/CC-Image-VOh.jpg
GEO:44.9037278;-93.1743916
X-APPLE-STRUCTURED-LOCATION;VALUE=URI;X-ADDRESS=Minnesota JCC Capp Center St. Paul 1375 ST. PAUL AVE St. Paul MN 55116 United States;X-APPLE-RADIUS=500;X-TITLE=1375 ST. PAUL AVE:geo:-93.1743916,44.9037278
END:VEVENT
BEGIN:VEVENT
DTSTART;TZID=America/Chicago:20260626T190000
DTEND;TZID=America/Chicago:20260626T190000
DTSTAMP:20260419T120716
CREATED:20260120T000341Z
LAST-MODIFIED:20260120T000341Z
UID:10006209-1782500400-1782500400@tcjewfolk.com
SUMMARY:Violins of Hope with MN Sinfonia Professional Chamber Orchestra
DESCRIPTION:Please reserve this date. Additional event details will be shared soon.
URL:https://tcjewfolk.com/event/violins-of-hope-with-mn-sinfonia-professional-chamber-orchestra-2/
LOCATION:First Covenant Church\, 1280 Arcade Street\, St. Paul\, MN\, 55106\, United States
CATEGORIES:RSVP Needed,Social
ATTACH;FMTTYPE=image/jpeg:https://tcjewfolk.com/wp-content/uploads/2026/01/CC-Image-VOh.jpg
END:VEVENT
BEGIN:VEVENT
DTSTART;TZID=America/Chicago:20260628T140000
DTEND;TZID=America/Chicago:20260628T140000
DTSTAMP:20260419T120716
CREATED:20260120T000311Z
LAST-MODIFIED:20260120T000311Z
UID:10006208-1782655200-1782655200@tcjewfolk.com
SUMMARY:Violins of Hope Performance with MN Sinfonia Professional Chamber Orchestra
DESCRIPTION:Please reserve this date. Additional event details will be shared soon.
URL:https://tcjewfolk.com/event/violins-of-hope-performance-with-mn-sinfonia-professional-chamber-orchestra-3/
LOCATION:Bethel University\, 3900 Bethel Drive\, St. Paul\, MN\, 55112\, United States
CATEGORIES:RSVP Needed,Social
ATTACH;FMTTYPE=image/jpeg:https://tcjewfolk.com/wp-content/uploads/2026/01/CC-Image-VOh.jpg
END:VEVENT
BEGIN:VEVENT
DTSTART;VALUE=DATE:20260629
DTEND;VALUE=DATE:20260630
DTSTAMP:20260419T120716
CREATED:20260120T000221Z
LAST-MODIFIED:20260210T164905Z
UID:10006196-1782691200-1782777599@tcjewfolk.com
SUMMARY:Violins of Hope with MN Sinfonia Professional Chamber Orchestra
DESCRIPTION:Please reserve this date. Additional event details will be shared soon. \n*Limited Capacity
URL:https://tcjewfolk.com/event/violins-of-hope-with-mn-sinfonia-professional-chamber-orchestra/
LOCATION:Sholom Home East\, 740 Kay Ave\, St. Paul\, 55102\, United States
CATEGORIES:RSVP Needed,Social
ATTACH;FMTTYPE=image/jpeg:https://tcjewfolk.com/wp-content/uploads/2026/01/CC-Image-VOh.jpg
GEO:44.9190743;-93.1382923
X-APPLE-STRUCTURED-LOCATION;VALUE=URI;X-ADDRESS=Sholom Home East 740 Kay Ave St. Paul 55102 United States;X-APPLE-RADIUS=500;X-TITLE=740 Kay Ave:geo:-93.1382923,44.9190743
END:VEVENT
END:VCALENDAR