BEGIN:VCALENDAR
VERSION:2.0
PRODID:-//TC Jewfolk - ECPv6.15.20//NONSGML v1.0//EN
CALSCALE:GREGORIAN
METHOD:PUBLISH
X-ORIGINAL-URL:https://tcjewfolk.com
X-WR-CALDESC:Events for TC Jewfolk
REFRESH-INTERVAL;VALUE=DURATION:PT1H
X-Robots-Tag:noindex
X-PUBLISHED-TTL:PT1H
BEGIN:VTIMEZONE
TZID:America/Chicago
BEGIN:DAYLIGHT
TZOFFSETFROM:-0600
TZOFFSETTO:-0500
TZNAME:CDT
DTSTART:20250309T080000
END:DAYLIGHT
BEGIN:STANDARD
TZOFFSETFROM:-0500
TZOFFSETTO:-0600
TZNAME:CST
DTSTART:20251102T070000
END:STANDARD
BEGIN:DAYLIGHT
TZOFFSETFROM:-0600
TZOFFSETTO:-0500
TZNAME:CDT
DTSTART:20260308T080000
END:DAYLIGHT
BEGIN:STANDARD
TZOFFSETFROM:-0500
TZOFFSETTO:-0600
TZNAME:CST
DTSTART:20261101T070000
END:STANDARD
BEGIN:DAYLIGHT
TZOFFSETFROM:-0600
TZOFFSETTO:-0500
TZNAME:CDT
DTSTART:20270314T080000
END:DAYLIGHT
BEGIN:STANDARD
TZOFFSETFROM:-0500
TZOFFSETTO:-0600
TZNAME:CST
DTSTART:20271107T070000
END:STANDARD
END:VTIMEZONE
BEGIN:VEVENT
DTSTART;TZID=America/Chicago:20260910T090000
DTEND;TZID=America/Chicago:20260910T100000
DTSTAMP:20260419T164938
CREATED:20260217T000024Z
LAST-MODIFIED:20260217T195115Z
UID:10006247-1789030800-1789034400@tcjewfolk.com
SUMMARY:September Coffee + Career Connections for Jewish Professionals
DESCRIPTION:JLink Coffee Talk: Careers & Connections\nJoin TC Jewfolk and JFCS of MN Career Services for a relaxed morning meetup designed for Jewish professionals at any stage — early career\, mid-career\, in transition\, or simply exploring what’s next. \nJLink is an open\, participant-driven conversation space where you can ask questions about job searching\, career pivots\, networking\, resumes\, LinkedIn\, or anything in between — or just come to listen and connect. This is a low-pressure\, welcoming environment to schmooze\, share real-life experiences\, and tap into Jewish communal resources that already exist to support you. \nDrop in\, grab coffee\, and leave with new ideas\, meaningful connections\, and greater clarity about your next step. \n2026 Dates (All Thursdays):\nMarch 12June 11September 10December 10 \nDetails:📍 SK Coffee\, St. Paul🕘 9:00–10:00 AM☕ Free to attend \nYou don’t need to have it all figured out — this is a place to start. \nPlease email Anna Ferdelman annaf@jfcsmn.org to RSVP. \nClick here to learn more about our meetups.\n 
URL:https://tcjewfolk.com/event/september-coffee-career-connections-for-jewish-professionals/
LOCATION:SK Coffee\, 550 Vandalia St.\, St. Paul\, MN\, 55114\, United States
CATEGORIES:Drop-In OK,Learning,Social
ATTACH;FMTTYPE=image/jpeg:https://tcjewfolk.com/wp-content/uploads/2026/02/2026-JLink-coffees-Featured-Events.jpg
ORGANIZER;CN="TC Jewfolk":MAILTO:events@jewfolk.com
END:VEVENT
BEGIN:VEVENT
DTSTART;TZID=America/Chicago:20260924T100000
DTEND;TZID=America/Chicago:20260924T150000
DTSTAMP:20260419T164938
CREATED:20260120T000419Z
LAST-MODIFIED:20260121T171539Z
UID:10006206-1790244000-1790262000@tcjewfolk.com
SUMMARY:Play for the J Cards Event
DESCRIPTION:Mark your calendar — we’ll be sharing more soon.
URL:https://tcjewfolk.com/event/minnesota-jccs-play-for-the-j-cards-event-2/
LOCATION:Oak Ridge Country Club\, 700 Oak Ridge Rd\, Hopkins\, MN\, 55305\, United States
CATEGORIES:Giving Back,RSVP Needed,Social
ATTACH;FMTTYPE=image/jpeg:https://tcjewfolk.com/wp-content/uploads/2022/11/Play-for-the-J_FB-LIFE@THEJ.jpg
GEO:44.9359743;-93.4057467
X-APPLE-STRUCTURED-LOCATION;VALUE=URI;X-ADDRESS=Oak Ridge Country Club 700 Oak Ridge Rd Hopkins MN 55305 United States;X-APPLE-RADIUS=500;X-TITLE=700 Oak Ridge Rd:geo:-93.4057467,44.9359743
END:VEVENT
END:VCALENDAR