BEGIN:VCALENDAR
VERSION:2.0
PRODID:-//TC Jewfolk - ECPv6.15.20//NONSGML v1.0//EN
CALSCALE:GREGORIAN
METHOD:PUBLISH
X-ORIGINAL-URL:https://tcjewfolk.com
X-WR-CALDESC:Events for TC Jewfolk
REFRESH-INTERVAL;VALUE=DURATION:PT1H
X-Robots-Tag:noindex
X-PUBLISHED-TTL:PT1H
BEGIN:VTIMEZONE
TZID:America/Chicago
BEGIN:DAYLIGHT
TZOFFSETFROM:-0600
TZOFFSETTO:-0500
TZNAME:CDT
DTSTART:20250309T080000
END:DAYLIGHT
BEGIN:STANDARD
TZOFFSETFROM:-0500
TZOFFSETTO:-0600
TZNAME:CST
DTSTART:20251102T070000
END:STANDARD
BEGIN:DAYLIGHT
TZOFFSETFROM:-0600
TZOFFSETTO:-0500
TZNAME:CDT
DTSTART:20260308T080000
END:DAYLIGHT
BEGIN:STANDARD
TZOFFSETFROM:-0500
TZOFFSETTO:-0600
TZNAME:CST
DTSTART:20261101T070000
END:STANDARD
BEGIN:DAYLIGHT
TZOFFSETFROM:-0600
TZOFFSETTO:-0500
TZNAME:CDT
DTSTART:20270314T080000
END:DAYLIGHT
BEGIN:STANDARD
TZOFFSETFROM:-0500
TZOFFSETTO:-0600
TZNAME:CST
DTSTART:20271107T070000
END:STANDARD
END:VTIMEZONE
BEGIN:VEVENT
DTSTART;TZID=America/Chicago:20260527T183000
DTEND;TZID=America/Chicago:20260527T203000
DTSTAMP:20260420T092122
CREATED:20260304T211106Z
LAST-MODIFIED:20260304T211106Z
UID:10006415-1779906600-1779913800@tcjewfolk.com
SUMMARY:Hope / Tikvah: A Youth Arts Showcase Presented by Rimon’s Keren Or Program
DESCRIPTION:“All of a sudden there was music. And hope.”  \nHope / Tikvah is a showcase of teen-created artwork\, featuring pieces made in response to a single prompt: Make hope visible. Show us what it means to you. Inspired in part by our community’s Violins of Hope residency—and the story of one violin once played by a gifted young musician whose life was transformed through music in extraordinarily difficult times—this program lifts up tikvah as an active practice: planting seeds (zera’im) even in uncertain soil\, repairing the world (tikkun olam) through small courageous acts\, and tending the spark (nitzotz) of light (or) within ourselves and one another. Through painting\, drawing\, photography\, sculpture\, dance\, music\, mixed media\, and more\, teens share what carries them through challenges and how creativity becomes resilience—each piece a personal answer\, and together\, a collective statement: even in difficult times\, there is light. There is hope. \nPresented in partnership with Adath Jeshurun Congregation. \n\n\n	Related
URL:https://tcjewfolk.com/event/hope-tikvah-a-youth-arts-showcase-presented-by-rimons-keren-or-program/
LOCATION:Minnesota JCC Sabes Center Minneapolis\, 4330 S. Cedar Lake Road\, St. Louis Park\, MN\, MN\, 55416\, United States
GEO:44.9653457;-93.333912
X-APPLE-STRUCTURED-LOCATION;VALUE=URI;X-ADDRESS=Minnesota JCC Sabes Center Minneapolis 4330 S. Cedar Lake Road St. Louis Park MN MN 55416 United States;X-APPLE-RADIUS=500;X-TITLE=4330 S. Cedar Lake Road\, St. Louis Park:geo:-93.333912,44.9653457
END:VEVENT
BEGIN:VEVENT
DTSTART;VALUE=DATE:20260802
DTEND;VALUE=DATE:20260803
DTSTAMP:20260420T092122
CREATED:20260105T145131Z
LAST-MODIFIED:20260105T145131Z
UID:10006157-1785628800-1785715199@tcjewfolk.com
SUMMARY:Adath Jeshurun's Annual Benefit 2026
DESCRIPTION:Placeholder for Adath’s Annual Benefit \n\n\n	Related
URL:https://tcjewfolk.com/event/adath-jeshuruns-annual-benefit-2026/
ATTACH;FMTTYPE=image/png:https://tcjewfolk.com/wp-content/uploads/2018/12/Adath-Logo_PURPLE1.png
END:VEVENT
END:VCALENDAR